BEGIN:VCALENDAR
VERSION:2.0
PRODID:-//LF Networking - ECPv6.15.20//NONSGML v1.0//EN
CALSCALE:GREGORIAN
METHOD:PUBLISH
X-ORIGINAL-URL:https://lfnetworking.org
X-WR-CALDESC:Events for LF Networking
REFRESH-INTERVAL;VALUE=DURATION:PT1H
X-Robots-Tag:noindex
X-PUBLISHED-TTL:PT1H
BEGIN:VTIMEZONE
TZID:America/Los_Angeles
BEGIN:DAYLIGHT
TZOFFSETFROM:-0800
TZOFFSETTO:-0700
TZNAME:PDT
DTSTART:20240310T100000
END:DAYLIGHT
BEGIN:STANDARD
TZOFFSETFROM:-0700
TZOFFSETTO:-0800
TZNAME:PST
DTSTART:20241103T090000
END:STANDARD
BEGIN:DAYLIGHT
TZOFFSETFROM:-0800
TZOFFSETTO:-0700
TZNAME:PDT
DTSTART:20250309T100000
END:DAYLIGHT
BEGIN:STANDARD
TZOFFSETFROM:-0700
TZOFFSETTO:-0800
TZNAME:PST
DTSTART:20251102T090000
END:STANDARD
BEGIN:DAYLIGHT
TZOFFSETFROM:-0800
TZOFFSETTO:-0700
TZNAME:PDT
DTSTART:20260308T100000
END:DAYLIGHT
BEGIN:STANDARD
TZOFFSETFROM:-0700
TZOFFSETTO:-0800
TZNAME:PST
DTSTART:20261101T090000
END:STANDARD
END:VTIMEZONE
BEGIN:VEVENT
DTSTART;VALUE=DATE:20250916
DTEND;VALUE=DATE:20250918
DTSTAMP:20260421T052025
CREATED:20250528T145405Z
LAST-MODIFIED:20250528T145405Z
UID:40349-1757980800-1758153599@lfnetworking.org
SUMMARY:FutureNet Asia
DESCRIPTION:Bringing the telecoms industry together to discuss strategic and commercial priorities in today’s digital world and the considerations for the future of the network.\n \nThrough market-leading events\, webinars\, and insights FutureNet drives the agenda around Network Automation and AI\, a key foundational pillar for the next wave of growth. \nNETWORK AUTOMATION AND AI\nToday\, cloud and IoT are causing service providers to handle data on an unprecedented scale which is putting enormous pressure on the network. AI offers a real opportunity to address these challenges to provide intelligent network operations and maintenance and will lead to self-healing and self-optimising networks as well as intelligent decision making and reduce delays and errors. Automation is imperative if service providers are going to survive and remain competitive in an ever-increasing connected world. \nEvent details: https://futurenetworld.net/events/futurenet-asia-2025/
URL:https://lfnetworking.org/event/futurenet-asia/
LOCATION:Marina Bay Sands\, Singapore
END:VEVENT
END:VCALENDAR